BEGIN:VCALENDAR
PRODID:NingEventWidget-v1
VERSION:2.0
METHOD:PUBLISH
BEGIN:VEVENT
UID:2508951:Event:144335
DTSTAMP:20260424T201856Z
SUMMARY:MOTORPSYCHIC ROCKS the OCEANFRONT
DESCRIPTION:The best of your favorite Classic Rock hits of the 60's, 7
 0's & 80's!\n\nFor more information visit https://vbnightlife.com/even
 ts/motorpsychic-rocks-the
DTSTART:20110609T000000Z
DTEND:20110609T023000Z
CATEGORIES:band
LOCATION:17th Street Starfish Pavilion
WEBSITE:http://www.myspace.com/motorpsychicband
URL:http://www.myspace.com/motorpsychicband
CONTACT:
ORGANIZER;CN="Laurie Schober":https://vbnightlife.com/profile/LaurieSc
 hober
ATTACH;FMTTYPE="image/jpeg":http://storage.ning.com/topology/rest/1.0/
 file/get/1664143878?profile=original
ATTENDEE;ROLE=REQ-PARTICIPANT;PARTSTAT=ACCEPTED;RSVP=TRUE;CN="Laurie S
 chober":https://vbnightlife.com/profile/LaurieSchober
END:VEVENT
END:VCALENDAR
