BEGIN:VCALENDAR
PRODID:NingEventWidget-v1
VERSION:2.0
METHOD:PUBLISH
BEGIN:VEVENT
UID:2508951:Event:29200
DTSTAMP:20260420T103301Z
SUMMARY:MOTORPSYCHIC BAND
DESCRIPTION:High Octane Classic Rock Hits & More\n\nFor more informati
 on visit https://vbnightlife.com/events/motorpsychic-band-9
DTSTART:20100214T180000Z
DTEND:20100214T220000Z
CATEGORIES:band
LOCATION:HELLS KITCHEN
WEBSITE:http://www.myspace.com/hknorfolk
URL:http://www.myspace.com/hknorfolk
CONTACT:757-624-1906
ORGANIZER;CN="Laurie Schober":https://vbnightlife.com/profile/LaurieSc
 hober
ATTACH;FMTTYPE="image/jpeg":http://storage.ning.com/topology/rest/1.0/
 file/get/1664099647?profile=original
ATTENDEE;ROLE=REQ-PARTICIPANT;PARTSTAT=ACCEPTED;RSVP=TRUE;CN="Laurie S
 chober":https://vbnightlife.com/profile/LaurieSchober
END:VEVENT
END:VCALENDAR
