BEGIN:VCALENDAR
PRODID:NingEventWidget-v1
VERSION:2.0
METHOD:PUBLISH
BEGIN:VEVENT
UID:2508951:Event:23402
DTSTAMP:20260422T044211Z
SUMMARY:MOTORPSYCHIC BAND
DESCRIPTION:HIGH OCTANE CLASSIC ROCK\n\n\n\nFor more information visit
  https://vbnightlife.com/events/motorpsychic-band-8
DTSTART:20091018T173000Z
DTEND:20091018T193000Z
CATEGORIES:band
LOCATION:KNUCKLEHEADS ROADHOUSE
WEBSITE:
URL:
CONTACT:757-644-6200
ORGANIZER;CN="Laurie Schober":https://vbnightlife.com/profile/LaurieSc
 hober
ATTACH;FMTTYPE="image/jpeg":http://storage.ning.com/topology/rest/1.0/
 file/get/1664087369?profile=original
ATTENDEE;ROLE=REQ-PARTICIPANT;PARTSTAT=ACCEPTED;RSVP=TRUE;CN="Laurie S
 chober":https://vbnightlife.com/profile/LaurieSchober
END:VEVENT
END:VCALENDAR
