BEGIN:VCALENDAR
PRODID:NingEventWidget-v1
VERSION:2.0
METHOD:PUBLISH
BEGIN:VEVENT
UID:2508951:Event:30081
DTSTAMP:20260421T023349Z
SUMMARY:MOTORPSYCHIC BAND
DESCRIPTION:Hot Rockin' Classic Hits, FUN and MORE!\n\nFor more inform
 ation visit https://vbnightlife.com/events/motorpsychic-band-15
DTSTART:20100321T013000Z
DTEND:20100321T053000Z
CATEGORIES:band
LOCATION:JERRY'S OF CHESAPEAKE
WEBSITE:
URL:
CONTACT:757-424-1086
ORGANIZER;CN="Laurie Schober":https://vbnightlife.com/profile/LaurieSc
 hober
ATTACH;FMTTYPE="image/jpeg":http://storage.ning.com/topology/rest/1.0/
 file/get/1664099997?profile=original
END:VEVENT
END:VCALENDAR
