BEGIN:VCALENDAR
PRODID:NingEventWidget-v1
VERSION:2.0
METHOD:PUBLISH
BEGIN:VEVENT
UID:2508951:Event:9994
DTSTAMP:20260425T213723Z
SUMMARY:MOTHER'S DAY BRUNCH @ GARRISON'S
DESCRIPTION:Join Chefs Jason Van Marter and Joshua Moore of Garrison's
  Bar and Grill for one of three seatings on Mothers Day. All proceeds 
 go to support breast cancer awareness\n\n10 AM TO 4PM\n\nFor more info
 rmation visit https://vbnightlife.com/events/mothers-day-brunch-garris
 ons
DTSTART:20090510T140000Z
DTEND:20090510T200000Z
CATEGORIES:fundraiser
LOCATION:Garrison's Bar and Grille
WEBSITE:
URL:
CONTACT:
ORGANIZER:JEFF AND NATASHA CHANCE
ATTACH;FMTTYPE="image/jpeg":http://storage.ning.com/topology/rest/1.0/
 file/get/1664070249?profile=original
ATTENDEE;ROLE=REQ-PARTICIPANT;PARTSTAT=ACCEPTED;RSVP=TRUE;CN="Nicole M
 axino":https://vbnightlife.com/profile/NicoleMaxino
END:VEVENT
END:VCALENDAR
