BEGIN:VCALENDAR
PRODID:NingEventWidget-v1
VERSION:2.0
METHOD:PUBLISH
BEGIN:VEVENT
UID:2508951:Event:294626
DTSTAMP:20260426T001212Z
SUMMARY:Monte Carlo Night at the Cavalier Hotel
DESCRIPTION:\nBITCOIN CASINO WEDNESDAY NIGHT!\n When: August 27th, fro
 m 7pm-11pm Where: The Cavalier Hotel Beach Club\n Enjoy your favorite 
 Casino games in a casual, beach friendly environment – Roulette, Cra
 ps, Blackjack, Texas Hold’em, Horse Racing  Wear your favorite Hawai
 ian shirt and shag to beach music Enjoy adult beverages and a social g
 ood time with our Crypto757 speakers and VC757 entrepreneurs  Win Bitc
 oin prizes – top prize 5 full Bitcoin (Bitcoin is trading at @ $512 
 US currently)  Benefits entrepreneurship in Hampton Roads and the Peni
 nsula Technology Incubator  REGISTER HERE no charge: http://www.ice75
 7.com/#tile_registration \n\nDonations accepted at the door\n\nFor mo
 re information visit https://vbnightlife.com/events/monte-carlo-night-
 at-the-cavalier-hotel
DTSTART:20140827T230000Z
DTEND:20140828T030000Z
CATEGORIES:fundraiser, "casino night"
LOCATION:Cavalier Hotel
WEBSITE:
URL:
CONTACT:
ORGANIZER;CN="VBnightlife.com":https://vbnightlife.com/profile/admin
ATTACH;FMTTYPE="image/jpeg":http://storage.ning.com/topology/rest/1.0/
 file/get/1664248426?profile=original
ATTENDEE;ROLE=REQ-PARTICIPANT;PARTSTAT=ACCEPTED;RSVP=TRUE;CN="VBnightl
 ife.com":https://vbnightlife.com/profile/admin
END:VEVENT
END:VCALENDAR
