BEGIN:VCALENDAR
PRODID:NingEventWidget-v1
VERSION:2.0
METHOD:PUBLISH
BEGIN:VEVENT
UID:2508951:Event:6783
DTSTAMP:20260422T120827Z
SUMMARY:MONDAY'S BAND / EVENTS LISTING
DESCRIPTION:Abbey Road - VB KEVIN KELLY BAND\"\nHalf Shell - ALL BUT F
 ORGOTTEN\nMurphy's Irish Pub - JESSE CHONG\n\nFor more information vis
 it https://vbnightlife.com/events/mondays-band-events-listing
DTSTART:20090302T050000Z
DTEND:20090303T045900Z
CATEGORIES:live, music
LOCATION:Virginia Beach
WEBSITE:
URL:
CONTACT:
ORGANIZER;CN="Nicole Maxino":https://vbnightlife.com/profile/NicoleMax
 ino
ATTACH;FMTTYPE="image/jpeg":http://storage.ning.com/topology/rest/1.0/
 file/get/1664069147?profile=original
ATTENDEE;ROLE=REQ-PARTICIPANT;PARTSTAT=ACCEPTED;RSVP=TRUE;CN="Nicole M
 axino":https://vbnightlife.com/profile/NicoleMaxino
END:VEVENT
END:VCALENDAR
