BEGIN:VCALENDAR
PRODID:NingEventWidget-v1
VERSION:2.0
METHOD:PUBLISH
BEGIN:VEVENT
UID:2508951:Event:10631
DTSTAMP:20260425T130153Z
SUMMARY:MONDAY'S BAND / EVENTS LISTING
DESCRIPTION:Abbey Road - KEVIN KELLEY\nKeagans - Town Center - JOHN HA
 RRELL\" 10pm\nMurphy's Irish Pub - JESSE CHONG\"\n\nFor more informati
 on visit https://vbnightlife.com/events/mondays-band-events-listing-4
DTSTART:20090406T040000Z
DTEND:20090407T035900Z
CATEGORIES:live, music
LOCATION:Virginia Beach
WEBSITE:
URL:
CONTACT:
ORGANIZER;CN="Nicole Maxino":https://vbnightlife.com/profile/NicoleMax
 ino
ATTACH;FMTTYPE="image/jpeg":http://storage.ning.com/topology/rest/1.0/
 file/get/1664072821?profile=original
ATTENDEE;ROLE=REQ-PARTICIPANT;PARTSTAT=ACCEPTED;RSVP=TRUE;CN="Nicole M
 axino":https://vbnightlife.com/profile/NicoleMaxino
END:VEVENT
END:VCALENDAR
