BEGIN:VCALENDAR
PRODID:NingEventWidget-v1
VERSION:2.0
METHOD:PUBLISH
BEGIN:VEVENT
UID:2508951:Event:8512
DTSTAMP:20260425T160615Z
SUMMARY:MONDAY'S BAND / EVENTS LISTING
DESCRIPTION:Abbey Road - KEVIN KELLY BAND\nGuadalajara's - all locatio
 ns - MARGARITA MONDAYS\nKeagans - Town Center - JOHN HARRELL 10pm\nUlt
 ra Lounge- PERIP4REAL\n\nFor more information visit https://vbnightlif
 e.com/events/mondays-band-events-listing-2
DTSTART:20090323T040000Z
DTEND:20090324T035900Z
CATEGORIES:live, music
LOCATION:Virginia Beach
WEBSITE:
URL:
CONTACT:
ORGANIZER;CN="Nicole Maxino":https://vbnightlife.com/profile/NicoleMax
 ino
ATTACH;FMTTYPE="image/jpeg":http://storage.ning.com/topology/rest/1.0/
 file/get/1664069651?profile=original
ATTENDEE;ROLE=REQ-PARTICIPANT;PARTSTAT=ACCEPTED;RSVP=TRUE;CN="Nicole M
 axino":https://vbnightlife.com/profile/NicoleMaxino
END:VEVENT
END:VCALENDAR
