BEGIN:VCALENDAR
PRODID:NingEventWidget-v1
VERSION:2.0
METHOD:PUBLISH
BEGIN:VEVENT
UID:2508951:Event:9777
DTSTAMP:20260422T204434Z
SUMMARY:Molly Hatchet live @ Saturday Night Street Fest in Hampton, VA
DESCRIPTION:\nLegendary Rockers Molly Hatchet will be performing live 
 in Hampton, VA at the Saturday Night Street Fest.\n\nFor more informat
 ion visit https://vbnightlife.com/events/molly-hatchet-live-saturday
DTSTART:20090425T220000Z
DTEND:20090426T030000Z
CATEGORIES:live, concerts
LOCATION:Hampton, VA
WEBSITE:http://www.mollyhatchet.com
URL:http://www.mollyhatchet.com
CONTACT:757-362-1116
ORGANIZER:
ATTACH;FMTTYPE="image/jpeg":http://storage.ning.com/topology/rest/1.0/
 file/get/1664070200?profile=original
ATTENDEE;ROLE=REQ-PARTICIPANT;PARTSTAT=ACCEPTED;RSVP=TRUE;CN="Karen Fa
 nn":https://vbnightlife.com/profile/KarenFann
ATTENDEE;ROLE=REQ-PARTICIPANT;PARTSTAT=ACCEPTED;RSVP=TRUE;CN="Karen Fa
 nn":https://vbnightlife.com/profile/KarenFann78
END:VEVENT
END:VCALENDAR
