BEGIN:VCALENDAR
PRODID:NingEventWidget-v1
VERSION:2.0
METHOD:PUBLISH
BEGIN:VEVENT
UID:2508951:Event:198594
DTSTAMP:20260421T160202Z
SUMMARY:mOCEAN @ Sunset Grille
DESCRIPTION:mOcean is a hard-working, dynamic band that’s been thril
 ling audiences from Virginia Beach to NE North Carolina.  Currently e
 ntering its third year playing both covers of hard driving rock favori
 tes to soulful acoustic jams, from Hendrix to Rush, they have been mak
 ing a name for themselves by providing appeal to audiences young and o
 ld. \n \nThe Sunset Grille is the place to dine and the place for fu
 n on the lower Eastern Shore. We offer some of the finest, yet casual 
 and reasonably priced, dining on the Delmarva Peninsula. The Sunset Gr
 ille offers an assortment of domestic and imported beers. The limited 
 wine list includes local vineyards featuring wines that pair well with
  the seafood of the Eastern Shore.  Our Beach Party weekends feature l
 ive musical entertainment every Saturday, Sunday, and all holidays!\n\
 nFor more information visit https://vbnightlife.com/events/mocean-suns
 et-grille
DTSTART:20130818T180000Z
DTEND:20130818T210000Z
CATEGORIES:"eastern shore events", "eastern shore live music", "easter
 n shore summer", "sunset grille", mocean
LOCATION:The Sunset Grille
WEBSITE:http://sunsetbeachinn.com/grille
URL:http://sunsetbeachinn.com/grille
CONTACT:
ORGANIZER;CN="VBnightlife.com":https://vbnightlife.com/profile/admin
ATTACH;FMTTYPE="image/jpeg":http://storage.ning.com/topology/rest/1.0/
 file/get/1664170952?profile=original
ATTENDEE;ROLE=REQ-PARTICIPANT;PARTSTAT=ACCEPTED;RSVP=TRUE;CN="VBnightl
 ife.com":https://vbnightlife.com/profile/admin
END:VEVENT
END:VCALENDAR
