BEGIN:VCALENDAR
PRODID:NingEventWidget-v1
VERSION:2.0
METHOD:PUBLISH
BEGIN:VEVENT
UID:2508951:Event:193258
DTSTAMP:20260419T182514Z
SUMMARY:MOCEAN returns to Clutch Bar and Grill
DESCRIPTION:The Boys are Back! MOCEAN returns to Clutch Bar and Grill 
 for a reunion with some great fans, the best cheeseburger in town and 
 several hours of hot Rock n Roll. If you want a friendly, fun, place t
 o just hang-out.... Clutch Bar and Grill!\n\nFor more information visi
 t https://vbnightlife.com/events/mocean-returns-to-clutch-bar-and-gril
 l
DTSTART:20120421T010000Z
DTEND:20120421T040000Z
CATEGORIES:party, funpeople, greatfood, colddrinks, livemusic, fridayn
 ight
LOCATION:General Booth Blvd in Booth Hill Shoppes
WEBSITE:http://maps.google.com/maps?q=1485+General+Booth+Boulevard,+Vi
 rginia+Beach,+VA&hl=en&sll=37.0625,-95.677068&sspn=33.489543,57.919922
 &oq=1485+general+&hnear=1485+General+Booth+Blvd,+Virginia+Beach,+Virgi
 nia+23454&t=m&z=16
URL:http://maps.google.com/maps?q=1485+General+Booth+Boulevard,+Virgin
 ia+Beach,+VA&hl=en&sll=37.0625,-95.677068&sspn=33.489543,57.919922&oq=
 1485+general+&hnear=1485+General+Booth+Blvd,+Virginia+Beach,+Virginia+
 23454&t=m&z=16
CONTACT:
ORGANIZER:MOCEAN and Clutch Bar and Grill
ATTACH;FMTTYPE="image/jpeg":http://storage.ning.com/topology/rest/1.0/
 file/get/1664165515?profile=original
ATTENDEE;ROLE=REQ-PARTICIPANT;PARTSTAT=ACCEPTED;RSVP=TRUE;CN=MOCEAN:ht
 tps://vbnightlife.com/profile/RalphJGargiulo
END:VEVENT
END:VCALENDAR
