BEGIN:VCALENDAR
PRODID:NingEventWidget-v1
VERSION:2.0
METHOD:PUBLISH
BEGIN:VEVENT
UID:2508951:Event:197800
DTSTAMP:20260423T050851Z
SUMMARY:MOCEAN on the Deck at the Wyndham
DESCRIPTION:Love the Beach? Tired of the crowds? Follow us to the perf
 ect spot.... The Deck at the Wyndham Hotel, on the beach at 57th Stree
 t. We'll be creating a mOcean wave from 2-5 pm. Come join us for relax
 ing and fun afternoon!\n\nFor more information visit https://vbnightli
 fe.com/events/mocean-on-the-deck-at-the-wyndham
DTSTART:20120610T180000Z
DTEND:20120610T210000Z
CATEGORIES:surfclub, music, deckparty, goodtimes, friendlypeople, moce
 anwave
LOCATION:The Wyndham Hotel on the Deck
WEBSITE:http://maps.google.com/maps?q=5700+Atlantic+Avenue,+Virginia+B
 each,+VA&hl=en&sll=37.0625,-95.677068&sspn=33.489543,57.919922&oq=5700
 +atlantic+ave&hnear=5700+Atlantic+Ave,+Virginia+Beach,+Virginia+23451&
 t=m&z=16
URL:http://maps.google.com/maps?q=5700+Atlantic+Avenue,+Virginia+Beach
 ,+VA&hl=en&sll=37.0625,-95.677068&sspn=33.489543,57.919922&oq=5700+atl
 antic+ave&hnear=5700+Atlantic+Ave,+Virginia+Beach,+Virginia+23451&t=m&
 z=16
CONTACT:
ORGANIZER:MOCEAN and The Wyndham
ATTACH;FMTTYPE="image/jpeg":http://storage.ning.com/topology/rest/1.0/
 file/get/1664171130?profile=original
ATTENDEE;ROLE=REQ-PARTICIPANT;PARTSTAT=ACCEPTED;RSVP=TRUE;CN="Rolan St
 ears":https://vbnightlife.com/profile/RolanStears
ATTENDEE;ROLE=REQ-PARTICIPANT;PARTSTAT=ACCEPTED;RSVP=TRUE;CN=MOCEAN:ht
 tps://vbnightlife.com/profile/RalphJGargiulo
END:VEVENT
END:VCALENDAR
