BEGIN:VCALENDAR
PRODID:NingEventWidget-v1
VERSION:2.0
METHOD:PUBLISH
BEGIN:VEVENT
UID:2508951:Event:159940
DTSTAMP:20260423T073919Z
SUMMARY:mOcean live at South Beach Grill
DESCRIPTION:After a day at the beach, bring your friends over to South
  Beach Grill for some cool drinks, great food and dance to the sounds 
 of mOcean. This is the bands first outing to South Beach and we are lo
 oking forward to meeting new friends.\n\nFor more information visit ht
 tps://vbnightlife.com/events/mocean-live-at-south-beach
DTSTART:20110808T000000Z
DTEND:20110808T040000Z
CATEGORIES:summerparty, livemusic, goodtimes, dancing, friends
LOCATION:South Beach Grill in Virginia Beach
WEBSITE:http://maps.google.com/maps?q=1091+Norfolk+Avenue,+Virginia+Be
 ach,+VA&hl=en&sll=37.0625,-95.677068&sspn=31.095668,70.224609&z=16
URL:http://maps.google.com/maps?q=1091+Norfolk+Avenue,+Virginia+Beach,
 +VA&hl=en&sll=37.0625,-95.677068&sspn=31.095668,70.224609&z=16
CONTACT:
ORGANIZER:South Beach Grill and mOcean
ATTACH;FMTTYPE="image/jpeg":http://storage.ning.com/topology/rest/1.0/
 file/get/1664148442?profile=original
ATTENDEE;ROLE=REQ-PARTICIPANT;PARTSTAT=ACCEPTED;RSVP=TRUE;CN="Rolan St
 ears":https://vbnightlife.com/profile/RolanStears
ATTENDEE;ROLE=REQ-PARTICIPANT;PARTSTAT=ACCEPTED;RSVP=TRUE;CN=MOCEAN:ht
 tps://vbnightlife.com/profile/RalphJGargiulo
END:VEVENT
END:VCALENDAR
