BEGIN:VCALENDAR
PRODID:NingEventWidget-v1
VERSION:2.0
METHOD:PUBLISH
BEGIN:VEVENT
UID:2508951:Event:165138
DTSTAMP:20260423T210914Z
SUMMARY:mOcean at Sunset Grille's Labor Day Party
DESCRIPTION:Labor Day Party at the Sunset Grille! A wonderful time to 
 drive over to the Eastern Shore to experience great people, great food
 , chilly drinks and live music by mOcean. Don't forget to present your
  toll receipt to get $5.00 (return trip price) taken off of your bill 
 when you buy dinner. Ask your server about this promotion.\n\nFor more
  information visit https://vbnightlife.com/events/mocean-at-sunset-gri
 lle-s-labor-day-party
DTSTART:20110905T170000Z
DTEND:20110905T200000Z
CATEGORIES:labordayparty, beachparty, fun-in-the-sun, greatpeople, awe
 somefood, chillydrinks, spectacular, sunsets
LOCATION:Kiptopeke Beach, Eastern Shore
WEBSITE:http://www.sunsetbeachresortva.com/index.php
URL:http://www.sunsetbeachresortva.com/index.php
CONTACT:
ORGANIZER:mOcean and Sunset Grille
ATTACH;FMTTYPE="image/jpeg":http://storage.ning.com/topology/rest/1.0/
 file/get/1664151332?profile=original
ATTENDEE;ROLE=REQ-PARTICIPANT;PARTSTAT=ACCEPTED;RSVP=TRUE;CN="Rolan St
 ears":https://vbnightlife.com/profile/RolanStears
ATTENDEE;ROLE=REQ-PARTICIPANT;PARTSTAT=ACCEPTED;RSVP=TRUE;CN=MOCEAN:ht
 tps://vbnightlife.com/profile/RalphJGargiulo
END:VEVENT
END:VCALENDAR
