BEGIN:VCALENDAR
PRODID:NingEventWidget-v1
VERSION:2.0
METHOD:PUBLISH
BEGIN:VEVENT
UID:2508951:Event:180837
DTSTAMP:20260420T164816Z
SUMMARY:MOCEAN at Smackwater Jacks
DESCRIPTION:Here's the buzz! Tidewaters hottest teen guitar sensation,
  the winner of Alpha Musics Guitar Wang-Off, will be playing at Smackw
 ater Jacks on Sat. 11/19. Come out have some great food with a very fr
 iendly staff and live music by MOCEAN.\n\nFor more information visit h
 ttps://vbnightlife.com/events/mocean-at-smackwater-jacks-2
DTSTART:20111120T020000Z
DTEND:20111120T060000Z
CATEGORIES:party, livemusic, greatfood, friendlystaff
LOCATION:Princess Anne Plaza  (by Sams Club)
WEBSITE:http://maps.google.com/maps?q=3333+Virginia+Beach+Boulevard,+V
 irginia+Beach,+VA&hl=en&sll=37.0625,-95.677068&sspn=32.059939,77.34375
 &vpsrc=0&hnear=3333+Virginia+Beach+Blvd,+Virginia+Beach,+Virginia+2345
 2&t=m&z=16
URL:http://maps.google.com/maps?q=3333+Virginia+Beach+Boulevard,+Virgi
 nia+Beach,+VA&hl=en&sll=37.0625,-95.677068&sspn=32.059939,77.34375&vps
 rc=0&hnear=3333+Virginia+Beach+Blvd,+Virginia+Beach,+Virginia+23452&t=
 m&z=16
CONTACT:For Reservations - 757-340-6638
ORGANIZER:MOCEAN and Smackwater Jack's
ATTACH;FMTTYPE="image/jpeg":http://storage.ning.com/topology/rest/1.0/
 file/get/1664159108?profile=original
ATTENDEE;ROLE=REQ-PARTICIPANT;PARTSTAT=ACCEPTED;RSVP=TRUE;CN=MOCEAN:ht
 tps://vbnightlife.com/profile/RalphJGargiulo
END:VEVENT
END:VCALENDAR
