BEGIN:VCALENDAR
PRODID:NingEventWidget-v1
VERSION:2.0
METHOD:PUBLISH
BEGIN:VEVENT
UID:2508951:Event:172074
DTSTAMP:20260420T110058Z
SUMMARY:MOCEAN at Neptune Festival
DESCRIPTION:Neptune Festival Family/Teenapalooza Stage\nOn the Boardwa
 lk at 13th Street\nSaturday - Local bands all day long and\nMOCEAN  R
 ocking the Stage from 8 PM to 9 PM - \n\nFor more information visit h
 ttps://vbnightlife.com/events/mocean-at-neptune-festival
DTSTART:20111002T000000Z
DTEND:20111002T010000Z
CATEGORIES:festival
LOCATION:Oceanfront
WEBSITE:http://maps.google.com/maps?q=1301+Atlantic+Avenue,+Virginia+B
 each,+VA&hl=en&ll=36.841541,-75.973227&spn=0.007899,0.018883&sll=37.06
 25,-95.677068&sspn=32.059939,77.34375&vpsrc=0&t=m&z=16&layer=c&cbll=36
 .841641,-75.973252&panoid=fAjz-Vkbjtvc0l8Zq9weWw&cbp=12,75.38,,0,-1.53
URL:http://maps.google.com/maps?q=1301+Atlantic+Avenue,+Virginia+Beach
 ,+VA&hl=en&ll=36.841541,-75.973227&spn=0.007899,0.018883&sll=37.0625,-
 95.677068&sspn=32.059939,77.34375&vpsrc=0&t=m&z=16&layer=c&cbll=36.841
 641,-75.973252&panoid=fAjz-Vkbjtvc0l8Zq9weWw&cbp=12,75.38,,0,-1.53
CONTACT:(757) 498-0215
ORGANIZER:MOCEAN and The Neptune Festival
ATTACH;FMTTYPE="image/jpeg":http://storage.ning.com/topology/rest/1.0/
 file/get/1664154972?profile=original
ATTENDEE;ROLE=REQ-PARTICIPANT;PARTSTAT=ACCEPTED;RSVP=TRUE;CN=MOCEAN:ht
 tps://vbnightlife.com/profile/RalphJGargiulo
END:VEVENT
END:VCALENDAR
