BEGIN:VCALENDAR
PRODID:NingEventWidget-v1
VERSION:2.0
METHOD:PUBLISH
BEGIN:VEVENT
UID:2508951:Event:84004
DTSTAMP:20260423T161407Z
SUMMARY:mOcean at Jack Quinn Restaurant & Irish Pub
DESCRIPTION:Fundraiser - Katelynn Stinnett Memerial Benefit. Food and 
 Drink Specials  25% of all proceeds to be donated to Prevent Child Ab
 use Hampton Roads.\nLive Music All Day - Come see mOcean  6 - 830 PM\
 n \n\nFor more information visit https://vbnightlife.com/events/mocea
 n-at-jack-quinn
DTSTART:20110409T220000Z
DTEND:20110410T003000Z
CATEGORIES:fundraiser, live, music
LOCATION:Jack Quinn Restaurant  & Irish Pub
WEBSITE:http://maps.google.com/maps?f=q&source=s_q&hl=en&geocode=&q=24
 1+Granby+Street,+Norfolk,+VA&aq=0&sll=37.0625,-95.677068&sspn=45.95753
 6,77.958984&ie=UTF8&hq=&hnear=241+Granby+St,+Norfolk,+Virginia+23510&z
 =16
URL:http://maps.google.com/maps?f=q&source=s_q&hl=en&geocode=&q=241+Gr
 anby+Street,+Norfolk,+VA&aq=0&sll=37.0625,-95.677068&sspn=45.957536,77
 .958984&ie=UTF8&hq=&hnear=241+Granby+St,+Norfolk,+Virginia+23510&z=16
CONTACT:757-623-2233
ORGANIZER:Jack Quinn Fundraisers
ATTACH;FMTTYPE="image/jpeg":http://storage.ning.com/topology/rest/1.0/
 file/get/1664137640?profile=original
ATTENDEE;ROLE=REQ-PARTICIPANT;PARTSTAT=ACCEPTED;RSVP=TRUE;CN=Gary:http
 s://vbnightlife.com/profile/g
END:VEVENT
END:VCALENDAR
