BEGIN:VCALENDAR
PRODID:NingEventWidget-v1
VERSION:2.0
METHOD:PUBLISH
BEGIN:VEVENT
UID:2508951:Event:254349
DTSTAMP:20260422T021631Z
SUMMARY:MOCEAN at ECSC
DESCRIPTION:MOCEAN on the ECSC main stage at 5th Street. Come on down 
 and check us out.\n\nFor more information visit https://vbnightlife.co
 m/events/mocean-at-ecsc
DTSTART:20130822T200000Z
DTEND:20130822T210000Z
CATEGORIES:surfchampionship, party
LOCATION:5th Street on the Boardwalk
WEBSITE:
URL:
CONTACT:
ORGANIZER:Coastal Edge ECSC and MOCEAN
ATTACH;FMTTYPE="image/jpeg":http://storage.ning.com/topology/rest/1.0/
 file/get/1664202870?profile=original
ATTENDEE;ROLE=REQ-PARTICIPANT;PARTSTAT=ACCEPTED;RSVP=TRUE;CN="Rolan St
 ears":https://vbnightlife.com/profile/RolanStears
ATTENDEE;ROLE=REQ-PARTICIPANT;PARTSTAT=ACCEPTED;RSVP=TRUE;CN=MOCEAN:ht
 tps://vbnightlife.com/profile/RalphJGargiulo
END:VEVENT
END:VCALENDAR
