BEGIN:VCALENDAR
PRODID:NingEventWidget-v1
VERSION:2.0
METHOD:PUBLISH
BEGIN:VEVENT
UID:2508951:Event:170241
DTSTAMP:20260420T110333Z
SUMMARY:mOcean at Calypso during Neptune Festival
DESCRIPTION:Don't have a Bucket List? Start with one from Calypso, a 3
 2 oz Malibu Bucket that is, frozen to perfection in your choice of six
  tropical flavors. $2.00 Red Stripe all day. Get your \"Island On\" at
  Calypso during the Neptune Festival. Live music by MOCEAN\n \n\nFor 
 more information visit https://vbnightlife.com/events/mocean-at-calyps
 o-for-neptune-festival
DTSTART:20111001T180000Z
DTEND:20111001T220000Z
CATEGORIES:goodfood, goodtimes, greatpeople, party, neptunefestival, b
 ucketlist, malibu
LOCATION:Boardwalk at 11th St.
WEBSITE:
URL:
CONTACT:
ORGANIZER:MOCEAN and Calypso Bar and Grill
ATTACH;FMTTYPE="image/jpeg":http://storage.ning.com/topology/rest/1.0/
 file/get/1664152616?profile=original
ATTENDEE;ROLE=REQ-PARTICIPANT;PARTSTAT=ACCEPTED;RSVP=TRUE;CN="Rolan St
 ears":https://vbnightlife.com/profile/RolanStears
ATTENDEE;ROLE=REQ-PARTICIPANT;PARTSTAT=ACCEPTED;RSVP=TRUE;CN=MOCEAN:ht
 tps://vbnightlife.com/profile/RalphJGargiulo
END:VEVENT
END:VCALENDAR
