BEGIN:VCALENDAR
PRODID:NingEventWidget-v1
VERSION:2.0
METHOD:PUBLISH
BEGIN:VEVENT
UID:2508951:Event:254454
DTSTAMP:20260419T183655Z
SUMMARY:Mocean at Calypso Bar and Grill
DESCRIPTION:Looking for a place the quench that Rock n Roll 1/2 thirst
 ? Join us at Calypso Sunday afternoon. Here's the deal. We're on the c
 ourse at milemarker 11 cheering you on, then you come by Calypso and d
 ance the day away with us. Great food, cold drinks and friendly staff.
  See you there.\n\nFor more information visit https://vbnightlife.com/
 events/mocean-at-calypso-bar-and-grill-11
DTSTART:20130901T180000Z
DTEND:20130901T220000Z
CATEGORIES:party, funpeople, greatfood, colddrinks, livemusic, "rnr1/2
 ", "rockandroll1/2"
LOCATION:Calypso Bar and Grill - on the Deck
WEBSITE:https://maps.google.com/maps?q=1101+Atlantic+Avenue,+Virginia+
 Beach,+VA&hl=en&ll=36.839944,-75.972669&spn=0.008071,0.019162&sll=36.8
 39601,-75.972714&sspn=0.008071,0.019162&oq=1101+Atlantic+Avenue,+Virgi
 nia+Beach,+VA&t=h&hnear=1101+Atlantic+Ave,+Virginia+Beach,+Virginia+23
 451&z=16
URL:https://maps.google.com/maps?q=1101+Atlantic+Avenue,+Virginia+Beac
 h,+VA&hl=en&ll=36.839944,-75.972669&spn=0.008071,0.019162&sll=36.83960
 1,-75.972714&sspn=0.008071,0.019162&oq=1101+Atlantic+Avenue,+Virginia+
 Beach,+VA&t=h&hnear=1101+Atlantic+Ave,+Virginia+Beach,+Virginia+23451&
 z=16
CONTACT:
ORGANIZER:MOCEAN and Calypso Bar and Grill
ATTACH;FMTTYPE="image/jpeg":http://storage.ning.com/topology/rest/1.0/
 file/get/1664203076?profile=original
ATTENDEE;ROLE=REQ-PARTICIPANT;PARTSTAT=ACCEPTED;RSVP=TRUE;CN="Rolan St
 ears":https://vbnightlife.com/profile/RolanStears
ATTENDEE;ROLE=REQ-PARTICIPANT;PARTSTAT=ACCEPTED;RSVP=TRUE;CN=MOCEAN:ht
 tps://vbnightlife.com/profile/RalphJGargiulo
END:VEVENT
END:VCALENDAR
