BEGIN:VCALENDAR
PRODID:NingEventWidget-v1
VERSION:2.0
METHOD:PUBLISH
BEGIN:VEVENT
UID:2508951:Event:83701
DTSTAMP:20260423T120427Z
SUMMARY:mOcean at 15th Street Raw Bar
DESCRIPTION:mOcean will be rockin Atlantic Ave on Friday April 8, 2011
 , at 15th Street Raw Bar.\nCome out and hear mOcean play all of your f
 avorites.\n\nFor more information visit https://vbnightlife.com/events
 /mocean-at-15th-street-raw-bar
DTSTART:20110409T010000Z
DTEND:20110409T050000Z
CATEGORIES:"rockin'", saturday, night
LOCATION:Corner of 15th and Atlantic
WEBSITE:http://www.moceanband.com
URL:http://www.moceanband.com
CONTACT:
ORGANIZER:mOcean
ATTACH;FMTTYPE="image/jpeg":http://storage.ning.com/topology/rest/1.0/
 file/get/1664137264?profile=original
ATTENDEE;ROLE=REQ-PARTICIPANT;PARTSTAT=ACCEPTED;RSVP=TRUE;CN=Gary:http
 s://vbnightlife.com/profile/g
ATTENDEE;ROLE=REQ-PARTICIPANT;PARTSTAT=TENTATIVE;RSVP=TRUE;CN=John:htt
 ps://vbnightlife.com/profile/John
END:VEVENT
END:VCALENDAR
