BEGIN:VCALENDAR
PRODID:NingEventWidget-v1
VERSION:2.0
METHOD:PUBLISH
BEGIN:VEVENT
UID:2508951:Event:324417
DTSTAMP:20260422T163544Z
SUMMARY:MOCA Nights - Free Admission to Virginia Contemporary Art Muse
 um
DESCRIPTION:MOCA Nights 2016\nMake it a MOCA Night! See it! Hear it! S
 peak it! Sing it! Eat it! Drink it!Â \nJan 19 | Â Feb 16 | Mar 15 | Ap
 r 19\n5-7pm Live Entertainment from the Musicians AllianceFeb entertai
 nment featuring:Â The Muddy Gems5-8pm Food trucksÂ 5-9pm Free Admissio
 n to Current ExhibitionsÂ 6:30pmÂ Conversations Gallery TourÂ 7-9pmÂ O
 pen Mic PerformancesÂ (Sign up at the event! Open to writers, poets, m
 usicians, comedians, spoken word etc.)\nFREE ADMISSION\nJoin us on the
  third Tuesday of each month, when the Museum is open from 5-9pm withÂ
  FREEÂ admission. Each MOCA NIGHT offers different experiences for vis
 itors including open-mic performances, conversations gallery tours led
  by educators, hands-on art-making, and a cash bar in our Atrium.Â \nC
 ome share your words, thoughts and music to inspire in an open and sup
 portive environment.Â Open Mic Sign-up starts at 7pm or in advance on 
 theÂ Facebook event page.Â \n\n\nMEDIA:\n\n\n\n  Open Mic Sign-up star
 ts at 6:30pmÂ   Â \n\nFor more information visit https://vbnightlife.c
 om/events/moca-nights-free-admission-to-virginia-contemporary-art-muse
 um-2
DTSTART:20160216T220000Z
DTEND:20160217T020000Z
CATEGORIES:fundraiser, moca, art, museum
LOCATION:ViRGINIA MUSEUM OF CONTEMPORARY ART
WEBSITE:
URL:
CONTACT:
ORGANIZER:VBnightlife.com / vbdaylife
ATTACH;FMTTYPE="image/jpeg":http://storage.ning.com/topology/rest/1.0/
 file/get/1664245373?profile=original
ATTENDEE;ROLE=REQ-PARTICIPANT;PARTSTAT=ACCEPTED;RSVP=TRUE;CN="VBnightl
 ife.com":https://vbnightlife.com/profile/admin
END:VEVENT
END:VCALENDAR
