BEGIN:VCALENDAR
PRODID:NingEventWidget-v1
VERSION:2.0
METHOD:PUBLISH
BEGIN:VEVENT
UID:2508951:Event:317027
DTSTAMP:20260424T121007Z
SUMMARY:MIX & MINGLE \"WINE CHALLENGE\" - LEARN ABOUT WINE at VBnightl
 ife's Mingle Monday TONIGHT at Tinto Wine & Cheese - Hilltop
DESCRIPTION:      \nJoin VBnightlife Monday from 6 to 8pm for a WIN
 E CHALLENGE! We will sample some awesome wines and  test our skills a
 t recognizing wine varietals & country of origin at this fun & educati
 onal tasting!   Network & meet new friends. Bring plenty of business 
 cards to share!  Please email nicole@vbnightlife.com subject line 
 \"Monday Mingle\" to RSVP or Call Nicole Maxino with any questions: 7
 57 652 0808\nTest your skills at recognizing wine with a fun & educati
 onal tasting!  \n\nYou will sample a range of unmarked wines.\nIf you
  guess all of the varietals correctly, you win a prize.\nIf you guess 
 all of the varietals plus the country of origin, you win a themed tast
 ing for up to 10 of your friends and you.\nIf you guess the varietals,
  county and year, you win a job!!!\n\n $10 per person\n\n**Sample 4 re
 d wines and 4 white wines**\n\n\n Tinto Wine & Cheese:  640 Hilltop W
 est Shopping Center, Virginia Beach, VA 23451\n\nVisit Tinto online: 
 http://tintovabeach.com/\n\nA little bit about Tinto\n• 6 Everyday W
 ine price points, from $10 - $35\n• Small, but exceptionally curated
  special occasion and sparkling wines\n• Constantly rotating cheese 
 and charcuterie selection, each with an ideal wine pairing\n• Knowle
 dgeable assistance based on your wine needs and preferences\n\nFor mor
 e information visit https://vbnightlife.com/events/mix-mingle-wine-cha
 llenge-learn-about-wine-at-vbnightlife-s
DTSTART:20151102T230000Z
DTEND:20151103T010000Z
CATEGORIES:"virginia beach", "virginia beach nightlife", "virginia bea
 ch wine tasting", "virginia beach entertainment", "events in virginia 
 beach", "things to do in virginia beach", "mobile app virginia beach"
LOCATION:Tinto Wine & Cheese
WEBSITE:
URL:
CONTACT:
ORGANIZER:VBnightlife.com / vbdaylife / Tinto Wine & Cheese
ATTACH;FMTTYPE="image/jpeg":http://storage.ning.com/topology/rest/1.0/
 file/get/1664285782?profile=original
ATTENDEE;ROLE=REQ-PARTICIPANT;PARTSTAT=ACCEPTED;RSVP=TRUE;CN="VBnightl
 ife.com":https://vbnightlife.com/profile/admin
END:VEVENT
END:VCALENDAR
