BEGIN:VCALENDAR
PRODID:NingEventWidget-v1
VERSION:2.0
METHOD:PUBLISH
BEGIN:VEVENT
UID:2508951:Event:313749
DTSTAMP:20260422T103904Z
SUMMARY:MISS ECSC SWIMSUIT COMPETITION FINALS - ON THE BEACH AT 5TH ST
 REET STAGE
DESCRIPTION:The time has come! Join the Virginia Beach Jaycees as th
 ey bring you the 2015 Coastal Edge Miss East Coast Surfing Champion
 ships Swimsuit Pageant FINALS\n\nCoastal Edge Miss ECSC Semifinals SA
 TURDAY\n4:30 pm - 5:30 pm - 5th Street Main Stage\n\nCoastal Edge Miss
  ECSC Finals\n4:00 pm - 5:15 pm - 5th Street Main Stage\n  \n\nFor mo
 re information visit https://vbnightlife.com/events/miss-ecsc-swimsuit
 -competition-finals-on-the-beach-at-5th-street
DTSTART:20150822T200000Z
DTEND:20150823T211500Z
CATEGORIES:"miss ecsc", "east coast surfing championships", "virginia 
 beach jaycees"
LOCATION:5th Street Stage ON THE BEACH
WEBSITE:
URL:
CONTACT:
ORGANIZER:VBnightlife.com / vbdaylife / Virginia Beach Jaycees
ATTACH;FMTTYPE="image/jpeg":http://storage.ning.com/topology/rest/1.0/
 file/get/1664286194?profile=original
ATTENDEE;ROLE=REQ-PARTICIPANT;PARTSTAT=ACCEPTED;RSVP=TRUE;CN="VBnightl
 ife.com":https://vbnightlife.com/profile/admin
END:VEVENT
END:VCALENDAR
