BEGIN:VCALENDAR
PRODID:NingEventWidget-v1
VERSION:2.0
METHOD:PUBLISH
BEGIN:VEVENT
UID:2508951:Event:290831
DTSTAMP:20260425T145444Z
SUMMARY:MISS ECSC PRELIMINARY COMPETITION AT BELMONT HOUSE OF SMOKE
DESCRIPTION:THE BEACH IS COMING TO GHENT!\nWe're thrilled to turn the 
 parking lot behind Belmont House of Smoke into the BEACH on Saturday, 
 July 26th ( yes, during the Ghent Bar Crawl and no, you don't have to 
 be part of the crawl to the come to the Beach Party)\nÂ \nWe'll have Â
  DJ Mike C, 2 bands, FM99 broadcasting live, FM99 Rock Girl,CE MISS EC
 SC SWIMSUIT Pageant , Water Slides, Games for all ages! Pools, Misting
  Booths, Multiple Bars, and plenty of food!!! Colley Cantina and Belmo
 nt House of Smoke will have Festival Food Booths set-up (Mexican Stree
 t Corn, Tacos and a Pig Picking!)\nÂ Â \n1pm: The fun starts! DJ, Game
 s, Bars and Food.\n4pm: First Band: Rodeo Clown, Registration for CE M
 iss ECSC Swimsuit Pageant Until 5:30\n6pm: CE Miss ECSC Contest\n8pm: 
 Crowning of CE Miss ECSCÂ \nÂ \nEast Coast Surfing Championship:\nWebs
 ite:Â www.surfecsc.com\nÂ \nBelmont:\nWebsite:Â www.belmonthouseofsmok
 e.comÂ \nFacebook Event Page:Â https://www.facebook.com/belmonthouseof
 smoke#!/events/573906456062669/\n\nPrizesâ€¦\n$700 to top 5\nÂ \n1st $
 300\n2nd - 5th $100Â \nTop 5 advance to Ecsc finalsÂ \n\nView Photos o
 f the ECSC and Swimsuit competition here:Â http://vbnightlife.com/phot
 o/album/search?q=ecsc\nÂ Â  Â \n \n\nDownload the new Mobile App for V
 irginia Beach! Brought to you by VBdaylife and VBnightlife.com. Use th
 is link if you are on a mobile device: http://onelink.to/yae3t5Â or se
 arch VBnightlife in the App Markets. Â \n\nFor more information visit 
 https://vbnightlife.com/events/miss-ecsc-preliminary-competition-at-be
 lmont-house-of-smoke
DTSTART:20140726T220000Z
DTEND:20140727T024500Z
CATEGORIES:"miss ecsc swimsuit competition"
LOCATION:BELMONT HOUSE OF SMOKE
WEBSITE:
URL:
CONTACT:
ORGANIZER:VBnightlife.com  / VBdaylife.com
ATTACH;FMTTYPE="image/jpeg":http://storage.ning.com/topology/rest/1.0/
 file/get/1664240604?profile=original
ATTENDEE;ROLE=REQ-PARTICIPANT;PARTSTAT=ACCEPTED;RSVP=TRUE;CN="VBnightl
 ife.com":https://vbnightlife.com/profile/admin
END:VEVENT
END:VCALENDAR
