BEGIN:VCALENDAR
PRODID:NingEventWidget-v1
VERSION:2.0
METHOD:PUBLISH
BEGIN:VEVENT
UID:2508951:Event:164160
DTSTAMP:20260423T194831Z
SUMMARY:Miss Coastal Edge ECSC Swimsuit Pageant presented by CP Shucke
 rs
DESCRIPTION:Ladies compete to win! 1st place at CP Shuckers $300, 2nd 
 Place $200, 3rd place$100! There will be two rounds to this competitio
 n - a dress round followed by a bikini round. Sign up online at www.s
 urfecsc.com. This is the second of two preliminary rounds leading up t
 o the finals at the 49th Annual Coastal Edge East Coast Surfing Champi
 onships presented by Vans. You must compete in a prelim round to go to
  the final stage at CE ECSC!\n \n\n\nFor more information visit https
 ://vbnightlife.com/events/miss-coastal-edge-ecsc-swimsuit-pageant-pres
 ented-by-cp-shuckers
DTSTART:20110818T013000Z
DTEND:20110818T163000Z
CATEGORIES:surfing
LOCATION:C.P. Shuckers
WEBSITE:
URL:
CONTACT:
ORGANIZER;CN="VBnightlife.com":https://vbnightlife.com/profile/admin
ATTACH;FMTTYPE="image/jpeg":http://storage.ning.com/topology/rest/1.0/
 file/get/1664149699?profile=original
ATTENDEE;ROLE=REQ-PARTICIPANT;PARTSTAT=ACCEPTED;RSVP=TRUE;CN="VBnightl
 ife.com":https://vbnightlife.com/profile/admin
END:VEVENT
END:VCALENDAR
