BEGIN:VCALENDAR
PRODID:NingEventWidget-v1
VERSION:2.0
METHOD:PUBLISH
BEGIN:VEVENT
UID:2508951:Event:1654
DTSTAMP:20260420T121723Z
SUMMARY:Mike Proffitt and Dana Silvercloud @ South Beach Grill
DESCRIPTION:Sunday Funday!  See you there!\n \n8pm to 1am\n\nFor mor
 e information visit https://vbnightlife.com/events/mike-proffitt-and-d
 ana
DTSTART:20111002T040000Z
DTEND:20111003T035900Z
CATEGORIES:"mike proffitt", "dana silvercloud", "south beach grill"
LOCATION:South Beach Grill
WEBSITE:
URL:
CONTACT:
ORGANIZER:vbnightlife.com / VBdaylife.com / NorfolkNightlife.com
ATTACH;FMTTYPE="image/jpeg":http://storage.ning.com/topology/rest/1.0/
 file/get/1664068649?profile=original
ATTENDEE;ROLE=REQ-PARTICIPANT;PARTSTAT=ACCEPTED;RSVP=TRUE;CN="Nicole M
 axino":https://vbnightlife.com/profile/NicoleMaxino
END:VEVENT
END:VCALENDAR
