BEGIN:VCALENDAR
PRODID:NingEventWidget-v1
VERSION:2.0
METHOD:PUBLISH
BEGIN:VEVENT
UID:2508951:Event:197146
DTSTAMP:20260422T224441Z
SUMMARY:Mid-Atlantic Hermit Crab Challenge
DESCRIPTION:The Crab is King at this one-of-a-kind event that’s fun 
 for the whole family! \nThe Mid-Atlantic Hermit Crab Challenge was na
 med to TripAdvisor.com's 2010 list of the Wackiest Summer Events in Am
 erica and to the New York Daily News 2012 list of the top 10 Wackiest 
 Festivals in the WOLRD.\nAlong with the Crustacean 500 race, participa
 nts may enter the Miss Curvaceous Crustacean Beauty Pageant.  At the 
 pageant, hermit crabs are presented in uniquely-decorated displays and
  judged on beauty and creativity.  Hermit crab owners are encouraged 
 to build a unique display for their crab.  Past winners have included
  themed entries like “Spider Crab,” “Hermit the Hulk,” “Beau
 ty and the Crab,” and “Pirates of the Crabibbean!”  Aside from 
 1st, 2nd, And 3rd Place winners, special trophies are also awarded for
  the Friendliest Crab, Biggest Crab, Shyest Crab, Most Unique Crab Dis
 play, Prettiest Crab Shell, Most Athletic Crab, and Most Traveled Crab
 .\nApproximately 300 hermit crabs participate in the Mid-Atlantic Herm
 it Crab Challenge each year.  Many of these come from out of state ju
 st to be with us! \nALL participants receive a medal for being a part
  of this unique event. \nThere are no fees for entering the Mid-Atlan
 tic Hermit Crab Challenge; the event is free for both participants and
  spectators.\nRegistration begins at 9:30am and all participants must 
 be registered by Noon in order to race.\n \n\n\nFor more information 
 visit https://vbnightlife.com/events/mid-atlantic-hermit-crab-challeng
 e
DTSTART:20120721T040000Z
DTEND:20120722T035900Z
CATEGORIES:"virginia beach events", "virginia beach family events", "v
 irginia beach summer", "mid atlantic hermit crab challenge", "beach st
 reet usa"
LOCATION:31st Street & The Beach
WEBSITE:http://www.beachstreetusa.com/events/Mid-AtlanticHermitCrabCha
 llenge
URL:http://www.beachstreetusa.com/events/Mid-AtlanticHermitCrabChallen
 ge
CONTACT:
ORGANIZER;CN="VBnightlife.com":https://vbnightlife.com/profile/admin
ATTACH;FMTTYPE="image/jpeg":http://storage.ning.com/topology/rest/1.0/
 file/get/1664171593?profile=original
ATTENDEE;ROLE=REQ-PARTICIPANT;PARTSTAT=ACCEPTED;RSVP=TRUE;CN="VBnightl
 ife.com":https://vbnightlife.com/profile/admin
END:VEVENT
END:VCALENDAR
