BEGIN:VCALENDAR
PRODID:NingEventWidget-v1
VERSION:2.0
METHOD:PUBLISH
BEGIN:VEVENT
UID:2508951:Event:17058
DTSTAMP:20260420T060858Z
SUMMARY:MICHAEL CLARK BAND @ SOUTH BEACH GRILL
DESCRIPTION:9:30 TO 1:30\n\nFor more information visit https://vbnight
 life.com/events/michael-clark-band-south
DTSTART:20100213T050000Z
DTEND:20100214T045900Z
CATEGORIES:band, "/", dj
LOCATION:VB / Norfolk
WEBSITE:
URL:
CONTACT:
ORGANIZER;CN="VBnightlife.com":https://vbnightlife.com/profile/admin
ATTACH;FMTTYPE="image/jpeg":http://storage.ning.com/topology/rest/1.0/
 file/get/1664079848?profile=original
ATTENDEE;ROLE=REQ-PARTICIPANT;PARTSTAT=ACCEPTED;RSVP=TRUE;CN="VBnightl
 ife.com":https://vbnightlife.com/profile/admin
END:VEVENT
END:VCALENDAR
