BEGIN:VCALENDAR
PRODID:NingEventWidget-v1
VERSION:2.0
METHOD:PUBLISH
BEGIN:VEVENT
UID:2508951:Event:189359
DTSTAMP:20260423T103204Z
SUMMARY:Mexican Mardi Gras Party at Guadalajara - American Cancer Soci
 ety Benefit in honor of Warren Seaburg
DESCRIPTION:\n\nThe Warren Seaburg Mexican Mardi Gras Party dedicated 
 to Warren H.Seaburg.\nMike Proffitt & Dana Silvercloud\nJoe Maniscalco
  & The ToucanJam Band\nIncognito Brothers! Party Fins!\nAdvance Ticket
 s: $15/$25 per couple\nAt the Door: $20 Each\n\nFor more information v
 isit https://vbnightlife.com/events/mexican-mardi-gras-party-at-guadal
 ajara
DTSTART:20120221T220000Z
DTEND:20120222T030000Z
CATEGORIES:"mardi gras"
LOCATION:Guadalajara- Town Center
WEBSITE:
URL:
CONTACT:
ORGANIZER;CN="VBnightlife.com":https://vbnightlife.com/profile/admin
ATTACH;FMTTYPE="image/jpeg":http://storage.ning.com/topology/rest/1.0/
 file/get/1664166399?profile=original
ATTENDEE;ROLE=REQ-PARTICIPANT;PARTSTAT=ACCEPTED;RSVP=TRUE;CN="Dottie H
 oltz":https://vbnightlife.com/profile/DottieHoltz
ATTENDEE;ROLE=REQ-PARTICIPANT;PARTSTAT=ACCEPTED;RSVP=TRUE;CN="VBnightl
 ife.com":https://vbnightlife.com/profile/admin
END:VEVENT
END:VCALENDAR
