BEGIN:VCALENDAR
PRODID:NingEventWidget-v1
VERSION:2.0
METHOD:PUBLISH
BEGIN:VEVENT
UID:2508951:Event:201794
DTSTAMP:20260423T122550Z
SUMMARY:METEOR SHOWER SATURDAY NIGHT / SUNDAY MORNING
DESCRIPTION:Perseid meteor shower 2012 expected to be great\nThe peak 
 of the Perseid meteor shower is set to happen on Saturday night and Su
 nday morning, August 11 and 12, 2012. Watch it under your local night 
 sky!\n\n\nThe Perseids should be a spectacular event because the Moon 
 is in its waning crescent phase, so the light reflecting off its lunar
  surface should not interfere with the meteors traveling across our ni
 ght sky at about 60 kilometers per hour (37 miles per hour).\nThe actu
 al peak for the Perseids is estimated to be 2 a.m. on Sunday morning, 
 August 12, 2012.\nYou can see the meteors any time before this date, a
 s they have been flying across the sky since about July 23rd. And they
  will remain visible until August 22.\nThe meteors within the Perseid 
 meteor shower are material from the Swift-Tuttle comet, which has a 13
 0-year orbit around the Sun.\n\n\n\nAlmost all meteors are produced by
  comets, which cast off dust while passing through the inner solar sys
 tem on their elliptical orbits around the Sun.\n\nIn the case of the P
 erseids, small dust grains of dust can range in size from a few millim
 eters up to a centimeter or more. They then vaporize in the Earth’s 
 atmosphere at a height of almost 100 kilometers, which causes them to 
 grow bright (as they are vaporized) and leave a glowing train as they 
 race across the sky.\nTo see the meteors, look toward the constellatio
 n Perseus, in the northeastern sky. The number of meteors you should s
 ee at the peak could reach upwards to 60 or more an hour.\nThe Perseid
 s are primarily visible in the northern hemisphere.\nA YouTube video \
 "Perseid Meteor Shower\" shows one person's observation of the Perseid
 s meteors in 2007. It states, \"Last night I videotaped some meteors 
 with my night vision camera. Except the third one all meteors are Pers
 eids.\"(http://www.youtube.com/watch?v=6XTBrYWrey0)\n\n\n\n\nFor more 
 information visit https://vbnightlife.com/events/meteor-shower-saturda
 y-night-sunday-morning
DTSTART:20120811T220000Z
DTEND:20120812T230000Z
CATEGORIES:meteor
LOCATION:everywhere
WEBSITE:
URL:
CONTACT:
ORGANIZER;CN="VBnightlife.com":https://vbnightlife.com/profile/admin
ATTACH;FMTTYPE="image/jpeg":http://storage.ning.com/topology/rest/1.0/
 file/get/1664174500?profile=original
ATTENDEE;ROLE=REQ-PARTICIPANT;PARTSTAT=ACCEPTED;RSVP=TRUE;CN="VBnightl
 ife.com":https://vbnightlife.com/profile/admin
END:VEVENT
END:VCALENDAR
