BEGIN:VCALENDAR
PRODID:NingEventWidget-v1
VERSION:2.0
METHOD:PUBLISH
BEGIN:VEVENT
UID:2508951:Event:189038
DTSTAMP:20260422T090649Z
SUMMARY:Memorial/ Fundraiser for Billy Stokes and suicide prevention
DESCRIPTION:Please come join at Swell the Locals Break,  in celebrati
 ng the life of Billy Stokes and raise money for suicide prevention. Yo
 u can invite who ever you like to come as well. Please contact( Arnie 
 Purvis ) if you can donate but cannot make it to this event.\n\nFor mo
 re information visit https://vbnightlife.com/events/memorial-fundraise
 r-for-billy-stokes-and-suicide-prevention
DTSTART:20120212T200000Z
DTEND:20120213T020000Z
CATEGORIES:fundraiser, memorial
LOCATION:Virginia Beach
WEBSITE:
URL:
CONTACT:
ORGANIZER;CN="VBnightlife.com":https://vbnightlife.com/profile/admin
ATTACH;FMTTYPE="image/jpeg":
ATTENDEE;ROLE=REQ-PARTICIPANT;PARTSTAT=ACCEPTED;RSVP=TRUE;CN="Rolan St
 ears":https://vbnightlife.com/profile/RolanStears
ATTENDEE;ROLE=REQ-PARTICIPANT;PARTSTAT=ACCEPTED;RSVP=TRUE;CN="VBnightl
 ife.com":https://vbnightlife.com/profile/admin
END:VEVENT
END:VCALENDAR
