BEGIN:VCALENDAR
PRODID:NingEventWidget-v1
VERSION:2.0
METHOD:PUBLISH
BEGIN:VEVENT
UID:2508951:Event:197986
DTSTAMP:20260422T152201Z
SUMMARY:Mediterranean Weekend
DESCRIPTION:A little bit of Italy and Greece come to the Virginia Beac
 h oceanfront for two days of pasta, pizza, Italian wine, great Greek f
 ood, beer, and world-class entertainment, together with family-friendl
 y entertainment like grape-stomping!  People from all walks of life a
 nd backgrounds join in one community for a three-day celebration of ev
 erything Italian and Greek!  Table seating under the giant tent makes
  for the perfect atmosphere for dining, singing, and dancing to classi
 c and modern Italian musical selections.  Strolling musicians go from
  aisle to aisle, giving diners an up-close and personal serenade of It
 alian tunes we’ve all heard growing up and Greek songs that celebrat
 e a rich heritage!\n\nFor more information visit https://vbnightlife.c
 om/events/mediterranean-weekend
DTSTART:20120916T040000Z
DTEND:20120917T035900Z
CATEGORIES:"virginia beach events", "virginia beach cultural events", 
 "beach street usa", "mediterranean weekend"
LOCATION:17th & 24th
WEBSITE:http://www.beachstreetusa.com/events/PeroniFestaItaliana
URL:http://www.beachstreetusa.com/events/PeroniFestaItaliana
CONTACT:
ORGANIZER;CN="VBnightlife.com":https://vbnightlife.com/profile/admin
ATTACH;FMTTYPE="image/jpeg":http://storage.ning.com/topology/rest/1.0/
 file/get/1664171192?profile=original
ATTENDEE;ROLE=REQ-PARTICIPANT;PARTSTAT=ACCEPTED;RSVP=TRUE;CN="Rolan St
 ears":https://vbnightlife.com/profile/RolanStears
ATTENDEE;ROLE=REQ-PARTICIPANT;PARTSTAT=ACCEPTED;RSVP=TRUE;CN="VBnightl
 ife.com":https://vbnightlife.com/profile/admin
END:VEVENT
END:VCALENDAR
