BEGIN:VCALENDAR
PRODID:NingEventWidget-v1
VERSION:2.0
METHOD:PUBLISH
BEGIN:VEVENT
UID:2508951:Event:8990
DTSTAMP:20260425T160157Z
SUMMARY:MATT KAZAM @ The Funny Bone
DESCRIPTION:Matt Kazam\nWebsite: http://mattkazam.com\n\nWho is Matt K
 azam? Why does he look so familiar? Where have I seen him before? All 
 of these questions can be answered when examining his profession: stan
 d-up comic! Matt is a veteran comic with 16 years experience who can b
 e seen performing at all the nations top comedy clubs. Matt has perfor
 med stand-up comedy over 4,500 times in 42 states and 7 countries. In 
 addition to his many collegiate performances, 2000 was highlighted by 
 Matt\"s appearance at Clemson University\"s Tigerama, which was held o
 n Homecoming weekend in Clemson\"s \"Death Valley\" Memorial Stadium. 
 Tigerama is billed as the World\"s Largest Pep Rally and Matt not only
  performed his stand-up show for the 35,000 in attendance, but also se
 rved as Emcee for the evening\"s events. This was the first year Clems
 on used a stand-up comedian to perform and host the event. Matt\"s per
 formance was so well received and he kept the evening\"s activities fl
 owing and fun, that after the rally, Program Board Officials as well a
 s student organizers hailed Tigerama 2000 as the best in it\"s 44 year
  history.\n\nStand-up comedy has been a dream for Matt his whole life.
  Growing up in New York City, he started performing shows for family a
 nd friends at the age of three, but it wasn\"t until graduating colleg
 e at George Mason University with a Degree in Finance, that Matt final
 ly took the plunge as a full time stand up comedian.\n\nHe has made nu
 merous television appearances on Fox\"s \"Big Red Couch\", Comedy Cent
 ral\"s \"Stand-Up Stand-Up\", VH-1\"s \"Fools For Love\", TLC\"s \"Two
  For Vegas\", The Discovery Channel\"s \"Lux List\" and has served as 
 the opening act for such notable comedians as Chris Rock, Pauly Shore,
  Kevin James, Robin Williams, DL Hughley and Drew Carey. Matt has also
  expanded his performing venues to include the Internet. He has appear
 ed with Tommy Davidson on the Rascal\"s Comedy Club Webcast \"Live Cau
 ght On The Net\". In addition, Matt has a comedy special entitled \"St
 and-Up and Sit-Down with Matt Kazam\" currently airing on XM Satellite
  Radio. Matt has also taken his act to the corporate arena. Performing
  private parties and corporate functions for such Fortune 500 companie
 s as America Online, Andersen Consulting, Mobil Oil, the Brunswick Cor
 poration, US Foods and IBM. He has also performed at numerous charity 
 golf events including the prestigious TPC Avenel country club. His abi
 lity to tailor his act to any group has made him a unique and sought a
 fter comedian by companies across the Nation.\n\nBesides performing st
 and-up comedy, Matt also teaches it. He has taught stand-up comedy cla
 sses at the Washington DC Improv\"s Comedy School and he is a guest le
 cturer at The Smithsonian Institute in Washington, DC, where he provid
 es continuing education programs in the areas of public speaking and h
 umor for some of the country\"s leading thinkers, professionals and ar
 tists. He is also the creator of the seminar \"Stand Up And Public Spe
 ak\". This new and exciting public speaking seminar encompasses all of
  the tools of stand-up comedy and applies them in an effective, manage
 able program that helps turn ordinary people into extraordinary speake
 rs. Matt\"s energetic style, witty observations and unassuming charm c
 ombined with his youthful enthusiasm and instant likeability are the d
 riving forces behind his unique and hilarious comedy.\n\nShow Times\nW
 ednesday, April 01, 2009\n8:00 PM\n\nFor more information visit https:
 //vbnightlife.com/events/matt-kazam-the-funny-bone
DTSTART:20090402T000000Z
DTEND:20090402T033000Z
CATEGORIES:comedy
LOCATION:The Funny Bone Comedy Club and Restaurant
WEBSITE:
URL:
CONTACT:
ORGANIZER:The Funny Bone
ATTACH;FMTTYPE="image/jpeg":http://storage.ning.com/topology/rest/1.0/
 file/get/1664070444?profile=original
ATTENDEE;ROLE=REQ-PARTICIPANT;PARTSTAT=ACCEPTED;RSVP=TRUE;CN="Nicole M
 axino":https://vbnightlife.com/profile/NicoleMaxino
END:VEVENT
END:VCALENDAR
