BEGIN:VCALENDAR
PRODID:NingEventWidget-v1
VERSION:2.0
METHOD:PUBLISH
BEGIN:VEVENT
UID:2508951:Event:31990
DTSTAMP:20260421T090046Z
SUMMARY:Mardi Gras Pig & Oyster Roast
DESCRIPTION:All you can eat Pork BBQ, Oysters, Chowder and much more!\
 n$ 25.00, Live music and drink specials. Benefiting Children's Perform
 ance Workshops For the Prevention of Child Abuse\n\nFor more informati
 on visit https://vbnightlife.com/events/mardi-gras-pig-oyster-roast
DTSTART:20100321T180000Z
DTEND:20100321T210000Z
CATEGORIES:fundraiser
LOCATION:Dockside Restaurant
WEBSITE:
URL:
CONTACT:491-2873
ORGANIZER;CN=Anita:https://vbnightlife.com/profile/Ann61
ATTACH;FMTTYPE="image/jpeg":http://storage.ning.com/topology/rest/1.0/
 file/get/1664101130?profile=original
ATTENDEE;ROLE=REQ-PARTICIPANT;PARTSTAT=ACCEPTED;RSVP=TRUE;CN="Debra Pr
 ice":https://vbnightlife.com/profile/DebraPrice
ATTENDEE;ROLE=REQ-PARTICIPANT;PARTSTAT=ACCEPTED;RSVP=TRUE;CN="Scott Cr
 ews":https://vbnightlife.com/profile/ScottCrews
ATTENDEE;ROLE=REQ-PARTICIPANT;PARTSTAT=ACCEPTED;RSVP=TRUE;CN=Anita:htt
 ps://vbnightlife.com/profile/Ann61
END:VEVENT
END:VCALENDAR
