BEGIN:VCALENDAR
PRODID:NingEventWidget-v1
VERSION:2.0
METHOD:PUBLISH
BEGIN:VEVENT
UID:2508951:Event:8387
DTSTAMP:20260425T173207Z
SUMMARY:Mardi Gras Party Pig & Oyster Roast
DESCRIPTION:Pig out and have bushels of fun for a good cause plus Core
 y Vann's seafood gumbo chowder, jambalaya and Peanut's pig cookin' and
  much more!\n\nBenefiting Children's Performance Workshops Against Chi
 ld Abuse\n\nTickets price: $ 35.00\n\nFor more information visit https
 ://vbnightlife.com/events/mardi-gras-party-pig-oyster
DTSTART:20090405T180000Z
DTEND:20090405T230000Z
CATEGORIES:fundraiser
LOCATION:Dockside Restaurant
WEBSITE:http://www.stopabuse.com
URL:http://www.stopabuse.com
CONTACT:757-481-4545
ORGANIZER:Jason
ATTACH;FMTTYPE="image/jpeg":http://storage.ning.com/topology/rest/1.0/
 file/get/1664070308?profile=original
ATTENDEE;ROLE=REQ-PARTICIPANT;PARTSTAT=ACCEPTED;RSVP=TRUE;CN=Terry:htt
 ps://vbnightlife.com/profile/Terry
ATTENDEE;ROLE=REQ-PARTICIPANT;PARTSTAT=ACCEPTED;RSVP=TRUE;CN=Anita:htt
 ps://vbnightlife.com/profile/Ann61
END:VEVENT
END:VCALENDAR
