BEGIN:VCALENDAR
PRODID:NingEventWidget-v1
VERSION:2.0
METHOD:PUBLISH
BEGIN:VEVENT
UID:2508951:Event:7716
DTSTAMP:20260425T185227Z
SUMMARY:March 7th at The Southend  Pub in VA. Beach, VA.
DESCRIPTION:The Muckrakes burn down the house at The Southend Pub in V
 A Beach, Sat night! Show time is 10PM. The Southend pub is located at 
 1706 Mediterranean Ave at the oceanfront.\n\nFor more information visi
 t https://vbnightlife.com/events/march-7th-at-the-southend-pub
DTSTART:20090308T030000Z
DTEND:20090308T060000Z
CATEGORIES:concert
LOCATION:The Southend Pub
WEBSITE:
URL:
CONTACT:
ORGANIZER;CN="The Muckrakes":https://vbnightlife.com/profile/TheMuckra
 kes
ATTACH;FMTTYPE="image/jpeg":
ATTENDEE;ROLE=REQ-PARTICIPANT;PARTSTAT=ACCEPTED;RSVP=TRUE;CN="The Muck
 rakes":https://vbnightlife.com/profile/TheMuckrakes
END:VEVENT
END:VCALENDAR
