BEGIN:VCALENDAR
PRODID:NingEventWidget-v1
VERSION:2.0
METHOD:PUBLISH
BEGIN:VEVENT
UID:2508951:Event:207622
DTSTAMP:20260419T202124Z
SUMMARY:Making Waves - Art Show
DESCRIPTION:The Art Institute of Virginia Beach Annual Student Art Sho
 w \"Making Waves\" - an exhibition of art by current students attendin
 g the Art Institute of Virginia Beach including all media: Photography
 , Painting, Assemblage, Digital Art and Drawing.  The Art Institute of
  Virginia Beach is a branch campus of The Art Institute of Atlanta and
  part of approx 50 Art Institutes nationwide.  This show is a prime ex
 ample of the exciting talent that is emerging from the Hampton Roads A
 rea.\n\nFor more information visit https://vbnightlife.com/events/maki
 ng-waves
DTSTART:20130214T140000Z
DTEND:20130216T000000Z
CATEGORIES:"virginia beach events", "virginia beach family fun", "virg
 inia beach fundraisers"
LOCATION:The Art Institute of Virginia Beach  - Town Center
WEBSITE:
URL:
CONTACT:757-493-6700
ORGANIZER:The Gallery Committee
ATTACH;FMTTYPE="image/jpeg":http://storage.ning.com/topology/rest/1.0/
 file/get/1664182512?profile=original
ATTENDEE;ROLE=REQ-PARTICIPANT;PARTSTAT=ACCEPTED;RSVP=TRUE;CN="Andi Hel
 fant-Frye":https://vbnightlife.com/profile/AndiHelfantFrye
END:VEVENT
END:VCALENDAR
