BEGIN:VCALENDAR
PRODID:NingEventWidget-v1
VERSION:2.0
METHOD:PUBLISH
BEGIN:VEVENT
UID:2508951:Event:38481
DTSTAMP:20260420T122738Z
SUMMARY:MADE IN AMERICA TOUR: DJ IRENE
DESCRIPTION:MADE IN AMERICA TOUR featuring DJ IRENE\n\n\nHosted by A.L
 IST EVENTS | EGOTRIGGER\n\nFriday, June 25, 2010\nMansion Room\nFIELDE
 N'S | 2033 West Broad Street - Richmond, VA 23220\nDOORS OPEN AT 11 PM
  TILL 5 AM\n\nSaturday, June 26, 2010\nSocial Sessions\nSAKE | 3497 Ho
 lland Road - Virginia Beach, Virginia 23452\nDOORS OPEN AT 10 PM TILL 
 3 AM\n\nSunday, June 27, 2010\nS.I.N.FUL SUNDAY\nCENTRAL 111 | 401 N. 
 Great Neck Road - Virginia Beach, VA 23454\nDOORS OPEN AT 9 PM TILL 3 
 AM\n\n\nSponsored by CLUBBER'S GUIDE TO GETTING DOWN\n\n\n------------
 --------------------------------\nDJ Irene's Bio:\n\nFor more than 15 
 years, DJ Irene has played a pivotal role in the Los Angeles club scen
 e. As a woman in a male-dominated industry, this DJ diva has proven to
  be fearless behind the turntables. Her ninth, high-powered mix compil
 ation, Global House Diva on UC Music, put forth an effort that produce
 d results. Having sold more than 30,000 units to date, she marks that 
 CD as her mission of love. Currently holding one of the longest reside
 ncies in the L.A. club circuit at The Arena, Irene prides herself on p
 laying some of the hardest, energetic and driving House music availabl
 e. Her ability to entrance her audience with her electrifying sets has
  made DJ Irene a household name. Famous for her hard signature sound, 
 Irene is also in high demand as a guest DJ.\n\nAs Irene continues to e
 xpand her presence in the club and rave scene, she has forced some of 
 the nations' most famous events, including New Year's Even in New Orle
 ans for Free-Base Society, the ESDJCO Jet Set Tour, as well as the Zen
  Festival in Phoenix. Irene's passion for Djing and making music is th
 e people. She vibes off their energy, playing whatever will \"keep the
 m going all night\". Irene believes in staying focused on the positive
  and never losing sight of what is one essential mix with something fo
 r everyone.\n\nCheck out www.myspace.com/djirene. Don't miss it!\n\n\n
 Tell them ICE informed you of this event!\n\nFor more information visi
 t https://vbnightlife.com/events/made-in-america-tour-dj-irene-2
DTSTART:20100628T010000Z
DTEND:20100628T070000Z
CATEGORIES:"made in america tour", "dj irene", dj, club, music, dance
LOCATION:CENTRAL 111
WEBSITE:http://www.centraloneeleven.com
URL:http://www.centraloneeleven.com
CONTACT:(757) 222-1022
ORGANIZER:CLUBBER'S GUIDE TO GETTING DOWN
ATTACH;FMTTYPE="image/jpeg":http://storage.ning.com/topology/rest/1.0/
 file/get/1664109675?profile=original
ATTENDEE;ROLE=REQ-PARTICIPANT;PARTSTAT=ACCEPTED;RSVP=TRUE;CN="Dan \"IC
 E\"":https://vbnightlife.com/profile/DanICE
END:VEVENT
END:VCALENDAR
