BEGIN:VCALENDAR
PRODID:NingEventWidget-v1
VERSION:2.0
METHOD:PUBLISH
BEGIN:VEVENT
UID:2508951:Event:101742
DTSTAMP:20260423T162209Z
SUMMARY:Mad Love Benefit for Rick Tortone at Winners Sports Bar!
DESCRIPTION:Saturday April 9, 2011\nRaffles with great prizes & fifty/
 fifty.\nGood food, good fun, good spirits, GREAT cause.\n6 p.m. till c
 lose\n \nLive Music ACTS---THE DYNAMOS at 9!\n\nFor more information 
 visit https://vbnightlife.com/events/mad-love-benefit-for-rick
DTSTART:20110409T040000Z
DTEND:20110410T035900Z
CATEGORIES:fundraiser
LOCATION:Winners Sports Bar
WEBSITE:
URL:
CONTACT:
ORGANIZER;CN="VBnightlife.com":https://vbnightlife.com/profile/admin
ATTACH;FMTTYPE="image/jpeg":
ATTENDEE;ROLE=REQ-PARTICIPANT;PARTSTAT=ACCEPTED;RSVP=TRUE;CN="VBnightl
 ife.com":https://vbnightlife.com/profile/admin
END:VEVENT
END:VCALENDAR
