BEGIN:VCALENDAR
PRODID:NingEventWidget-v1
VERSION:2.0
METHOD:PUBLISH
BEGIN:VEVENT
UID:2508951:Event:210908
DTSTAMP:20260419T174339Z
SUMMARY:LOVE YAV!
DESCRIPTION:YAV would like to take this opportunity to invite you to b
 e our guest at this year’s LOVE YAV! event on February 11th, from 5:
 30 - 7:00pm. This early evening event will introduce you and the Hampt
 on Roads community to Young Audiences of Virginia and demonstrate our 
 signature Interactive, Arts-in- Education programming by our professio
 nal artists, as well as honoring the 2012 YAV Award Winners!\nDue to h
 urricane Sandy, our fall fundraiser ARTOBERFEST, was cancelled. Now it
  is time to LOVE YAV! during Valentine’s Week. What a great way to s
 pend time with your loved one, enjoy great food, drink, the Arts, and 
 demonstrate your love for what YAV does every day throughout all schoo
 ls!\nWe want to show the love to our 2012 YAV Award winners. Judy Thal
 er will be awarded the 2012 Volunteer of the Year, Portsmouth General 
 Hospital Foundation the 2012 Funder of the Year, Joseph Salzberg the 2
 012 Teaching Artist of the Year, and the 2012 Ensemble of the Year, re
 cipient is Core Theater.\nEnjoy Bite’s hor d’oeuvres and an Open B
 ar sponsored by Wall, Einhorn, & Chernitzer P.C. from 5:30 - 6:00pm, f
 ollowed by our Interactive Arts-in-Education program from 6:00 - 7:00p
 m.\nYes, this is a fundraiser, too! Since Sandy evacuated our fall fun
 draiser, we want to give our current and new funders the opportunity t
 o consider making a contribution at the conclusion of the event. There
  is no minimum or maximum gift requested. As much as anything, we trul
 y would like you to come and learn more about the dynamic and interact
 ive education programs Young Audiences is providing for over 200,000 c
 hildren each year throughout Virginia!\n\n\n\n\n\nFor more information
  visit https://vbnightlife.com/events/love-yav
DTSTART:20130211T223000Z
DTEND:20130212T000000Z
CATEGORIES:board, volunteer, entry, and, fundraiser
LOCATION:Bite the Restaurant, Wells Fargo Tower
WEBSITE:http://www.yav.org
URL:http://www.yav.org
CONTACT:757-466-7555
ORGANIZER;CN="Bill Griggs":https://vbnightlife.com/profile/BillGriggs
ATTACH;FMTTYPE="image/jpeg":
ATTENDEE;ROLE=REQ-PARTICIPANT;PARTSTAT=ACCEPTED;RSVP=TRUE;CN="Bill Gri
 ggs":https://vbnightlife.com/profile/BillGriggs
END:VEVENT
END:VCALENDAR
