BEGIN:VCALENDAR
PRODID:NingEventWidget-v1
VERSION:2.0
METHOD:PUBLISH
BEGIN:VEVENT
UID:2508951:Event:229930
DTSTAMP:20260423T145518Z
SUMMARY:Louis Smith  @ Froggies Cantina by the Bay
DESCRIPTION:Acoustic Entertainment. Louis plays originals and covers b
 y the likes of Dave Matthews, Jimi Hendrix, the Counting Crows and mor
 e. For more info, visit www.RiffCurrent.com.\n\nFor more information v
 isit https://vbnightlife.com/events/louis-smith-tapped-gastropub
DTSTART:20141127T020000Z
DTEND:20141127T044500Z
CATEGORIES:music
LOCATION:Froggies
WEBSITE:http://www.froggiescantinabythebay.com/index.php
URL:http://www.froggiescantinabythebay.com/index.php
CONTACT:216-3300
ORGANIZER;CN="Louis Smith":https://vbnightlife.com/profile/LouisSmith
ATTACH;FMTTYPE="image/jpeg":http://storage.ning.com/topology/rest/1.0/
 file/get/1664193003?profile=original
ATTENDEE;ROLE=REQ-PARTICIPANT;PARTSTAT=ACCEPTED;RSVP=TRUE;CN="Louis Sm
 ith":https://vbnightlife.com/profile/LouisSmith
END:VEVENT
END:VCALENDAR
