BEGIN:VCALENDAR
PRODID:NingEventWidget-v1
VERSION:2.0
METHOD:PUBLISH
BEGIN:VEVENT
UID:2508951:Event:193931
DTSTAMP:20260423T135309Z
SUMMARY:Louis Smith @ The Farm Bureau Live
DESCRIPTION:Louis is 106.9 's Unplugged Renegade Contest Winner and wi
 ll open for Styx, Foreigner and Don Felder at the Farm Bureau Live at 
 6:40 p.m.  More info and music links can be found at http://www.Riffc
 urrent.com\n\nFor more information visit https://vbnightlife.com/event
 s/louis-smith-bayside-bar-and-grill
DTSTART:20140601T223000Z
DTEND:20140601T230000Z
CATEGORIES:acoustic, rock
LOCATION:Farm Bureau Live
WEBSITE:https://www.facebook.com/vabeachamp
URL:https://www.facebook.com/vabeachamp
CONTACT:368-3000
ORGANIZER;CN="Louis Smith":https://vbnightlife.com/profile/LouisSmith
ATTACH;FMTTYPE="image/jpeg":http://storage.ning.com/topology/rest/1.0/
 file/get/1664168000?profile=original
ATTENDEE;ROLE=REQ-PARTICIPANT;PARTSTAT=ACCEPTED;RSVP=TRUE;CN="Louis Sm
 ith":https://vbnightlife.com/profile/LouisSmith
END:VEVENT
END:VCALENDAR
