BEGIN:VCALENDAR
PRODID:NingEventWidget-v1
VERSION:2.0
METHOD:PUBLISH
BEGIN:VEVENT
UID:2508951:Event:169935
DTSTAMP:20260420T092555Z
SUMMARY:Louis Smith @ Abbey Road Pub
DESCRIPTION:Teen Acoustic Performer Louis Smith will be at Abbey Road
 , 22nd St. at the Oceanfront, Friday and  Saturday September 16 & 17
   from 9:30-1:30.  Louis plays originals and covers from the likes 
 of Dave Matthews, Jack Johnson, Tom Petty and Jimi Hendrix.  More inf
 o about Louis can be found at www.riffcurrent.com.  Or, visit www.abb
 eyroadpub.com\n\nFor more information visit https://vbnightlife.com/ev
 ents/louis-smith-abbey-road-pub
DTSTART:20110917T013000Z
DTEND:20110917T173000Z
CATEGORIES:acoustic, rock
LOCATION:Abbey Road Pub
WEBSITE:http://www.abbeyroadpub.com
URL:http://www.abbeyroadpub.com
CONTACT:425-6330
ORGANIZER;CN="Louis Smith":https://vbnightlife.com/profile/LouisSmith
ATTACH;FMTTYPE="image/jpeg":http://storage.ning.com/topology/rest/1.0/
 file/get/1664152305?profile=original
ATTENDEE;ROLE=REQ-PARTICIPANT;PARTSTAT=ACCEPTED;RSVP=TRUE;CN="Louis Sm
 ith":https://vbnightlife.com/profile/LouisSmith
END:VEVENT
END:VCALENDAR
