BEGIN:VCALENDAR
PRODID:NingEventWidget-v1
VERSION:2.0
METHOD:PUBLISH
BEGIN:VEVENT
UID:2508951:Event:230052
DTSTAMP:20260420T044112Z
SUMMARY:Louis Smith @ The Farm Bureau VIP Club
DESCRIPTION:Acoustic Performance. Louis accompanied by Andrew Drehoff 
 on the Sax play originals and covers by the likes the Counting Crows, 
 Led Zeppelin and the Avett Brothers. For more info, visit www.RiffCurr
 ent.com.\n\nFor more information visit https://vbnightlife.com/events/
 louis-smith-abbey-road-pub-11
DTSTART:20130726T213000Z
DTEND:20130726T230000Z
CATEGORIES:music
LOCATION:The Farm Bureau Live
WEBSITE:https://twitter.com/FBLiveVIP/status/339752953969778689
URL:https://twitter.com/FBLiveVIP/status/339752953969778689
CONTACT:368-3000
ORGANIZER;CN="Louis Smith":https://vbnightlife.com/profile/LouisSmith
ATTACH;FMTTYPE="image/jpeg":http://storage.ning.com/topology/rest/1.0/
 file/get/1664197869?profile=original
ATTENDEE;ROLE=REQ-PARTICIPANT;PARTSTAT=ACCEPTED;RSVP=TRUE;CN="Louis Sm
 ith":https://vbnightlife.com/profile/LouisSmith
END:VEVENT
END:VCALENDAR
