BEGIN:VCALENDAR
PRODID:NingEventWidget-v1
VERSION:2.0
METHOD:PUBLISH
BEGIN:VEVENT
UID:2508951:Event:313860
DTSTAMP:20260422T103541Z
SUMMARY:80's THEME PARTY AND LONGSHOTS BILLIARDS AND DARTS 9TH BIRTHDA
 Y PARTY WITH THE DELOREANS
DESCRIPTION:\n**FREE Pool All Day**\n\nAnnual Scavenger Hunt  with Pr
 izes12pm\n\nJELLO wrestling at 6pm\n\nFREE BBQ DINNER at 6:30\n\nThe D
 eloreans at 9pmLongshots Billiards & DartsLongshots is the Largest Bil
 liards and Darts Bar in Hampton Roads. We have Large Smoking and NON-S
 moking bars in the building as well as many TV's for watching your fav
 orite sports.Address & Directions: 1125 Military Hwy, Chesapeake, VA 
 23320\n\n\nPhone: 757-361-0160\n \n\n\nFor more information visit ht
 tps://vbnightlife.com/events/longshots-billiards-and-darts-9th-birthda
 y-party
DTSTART:20150829T040000Z
DTEND:20150830T035900Z
CATEGORIES:"longshots billiards and darts", "birthday party", "the del
 oreans"
LOCATION:Longshots Billiards and Darts
WEBSITE:
URL:
CONTACT:757-361-0160
ORGANIZER:VBnightlife.com / vbdaylife / Longshots Billiards & Darts
ATTACH;FMTTYPE="image/jpeg":http://storage.ning.com/topology/rest/1.0/
 file/get/1664286123?profile=original
ATTENDEE;ROLE=REQ-PARTICIPANT;PARTSTAT=ACCEPTED;RSVP=TRUE;CN="VBnightl
 ife.com":https://vbnightlife.com/profile/admin
END:VEVENT
END:VCALENDAR
