BEGIN:VCALENDAR
PRODID:NingEventWidget-v1
VERSION:2.0
METHOD:PUBLISH
BEGIN:VEVENT
UID:2508951:Event:199537
DTSTAMP:20260423T031619Z
SUMMARY:LOCALS ONLY FINAL REUNION SHOW AT THUMBS
DESCRIPTION:ONE MORE SHOW! Yes, that is right! We have added one more 
 show to the schedule before Jeff heads back to the islands. The gig wi
 ll be at \"Thumbs\" on 17th street and will start around 9:00 pm on W
 ednesday, June 20th. Unfortunately, both of our drummers (Gray and Tri
 p) will be out of town on business and cannot attend. Luckily, we were
  able to snatch the talented Mark Watts (from another great 80's band,
  The Boneshakers) to fill in for us. Time to have one last blow out an
 d we promise...this IS the last one! See everyone there!\n$5 Cover\n\n
 For more information visit https://vbnightlife.com/events/locals-only-
 final-reunion-show-at-thumbs
DTSTART:20120621T010000Z
DTEND:20120621T050000Z
CATEGORIES:"locals only", reunion
LOCATION:THUMBS RESTAURANT
WEBSITE:
URL:
CONTACT:
ORGANIZER;CN="VBnightlife.com":https://vbnightlife.com/profile/admin
ATTACH;FMTTYPE="image/jpeg":http://storage.ning.com/topology/rest/1.0/
 file/get/1664173360?profile=original
ATTENDEE;ROLE=REQ-PARTICIPANT;PARTSTAT=ACCEPTED;RSVP=TRUE;CN="Rolan St
 ears":https://vbnightlife.com/profile/RolanStears
ATTENDEE;ROLE=REQ-PARTICIPANT;PARTSTAT=ACCEPTED;RSVP=TRUE;CN="VBnightl
 ife.com":https://vbnightlife.com/profile/admin
END:VEVENT
END:VCALENDAR
