BEGIN:VCALENDAR
PRODID:NingEventWidget-v1
VERSION:2.0
METHOD:PUBLISH
BEGIN:VEVENT
UID:2508951:Event:257719
DTSTAMP:20260422T023007Z
SUMMARY:Locals Night At Cactus Jacks with 25% off Food & Drink - Steve
  Forss + FREE Tickets to House of Blues & Brews at MOCA Sunday!
DESCRIPTION:\nWondering where to go during the week now that the Ocean
 front Stages are empty?  Cactus Jacks and VBnightlife are hosting a L
 ocal's Night every Wednesday thru October with live music from 6 to 9.
   Join us for dinner or drinks at the bar and enjoy 25% off your enti
 re bill and live music with Steve Forss!\n\nFree parking Behind Cactus
  Jacks with the entrance off of 28th Street.\n\nWE ARE GIVING AWAY FRE
 E TICKETS TO MOCA'S HOUSE OF BLUES AND BREWS THIS COMING SUNDAY.  DET
 AILS ON THAT EVENT HERE: http://vbnightlife.com/events/house-of-blues
 -and-brews-at-moca-1\n\nCactus Jacks\n2736 Atlantic Avenue\nVirginia B
 each, VA 23451\n(757) 802-9898\n\"Wednesdays Locals Night\"\n\nLive mu
 sic in the Cactus Lounge starting at 6pm!\n\n\n\nShow your Virginia B
 each or Military I.D. and receive 25% entire guest check all day unti
 l 9pm\n\n\n\nTake the kids to dinner!\nMeet a friend for a drink after
  work!\nHump Day Fun for everyone!\n\n\n\n\n \n\n\n\n\nFor more infor
 mation visit https://vbnightlife.com/events/locals-night-at-cactus-jac
 ks-7
DTSTART:20131030T220000Z
DTEND:20131031T010000Z
CATEGORIES:"cactus jacks", "locals night", vbnightlife
LOCATION:CACTUS JACKS
WEBSITE:http://www.cactusjacksvb.com/
URL:http://www.cactusjacksvb.com/
CONTACT:(757) 802-9898
ORGANIZER;CN="VBnightlife.com":https://vbnightlife.com/profile/admin
ATTACH;FMTTYPE="image/jpeg":http://storage.ning.com/topology/rest/1.0/
 file/get/1664212927?profile=original
ATTENDEE;ROLE=REQ-PARTICIPANT;PARTSTAT=ACCEPTED;RSVP=TRUE;CN="VBnightl
 ife.com":https://vbnightlife.com/profile/admin
END:VEVENT
END:VCALENDAR
