BEGIN:VCALENDAR
PRODID:NingEventWidget-v1
VERSION:2.0
METHOD:PUBLISH
BEGIN:VEVENT
UID:2508951:Event:286872
DTSTAMP:20260423T092817Z
SUMMARY:Llamas at Brunch SATURDAY at the Virginia Beach Oceanfront!
DESCRIPTION:Â \n\n\n\n\n\n\n\n\nOn Saturday, May 31st, Llamas at Brunc
 h are making their Oceanfront debut at the 24th Street Stage starting 
 at 8 pm.\nLlamas at BrunchÂ is a bunch of friends who came together fr
 om diverse musical backgrounds, creating a unique sound that canâ€™t b
 e labeled as an existing genre. With roots in rock, blues, and whateve
 r they might be listening to at any given time, they will entertain yo
 u with honest lyrics, creative jams, and a span of covers with their u
 nique take. They bring the same high-energy to shows on festival stage
 s, corner bars, and everywhere in between as they continue to expand a
 nd evolve their musical direction.\nThe Llamas feature several formerÂ
  Carbon JamÂ band members with a renewed focus on original music and h
 igh-energy covers. We hope to see you there on Saturday!\nFor more inf
 ormation or to book the band, send an email to:Â booking@llamasatbrunc
 h.com, or connect with the band via one of the sites below:\nWebsite:Â
  http://www.llamasatbrunch.com/ Facebook:Â http://www.facebook.com/lla
 masatbrunch\nBandcamp:Â http://llamasatbrunch.bandcamp.com/\nUpcoming 
 Schedule\nMay 31Â - 24th Street Park Jun 7Â - 7th Street Stage (Mahi M
 ah's/Chix Sea Grill)\nJun 20Â - Oceans & Ale\nJul 5Â - 7th Street Stag
 e (Mahi Mah's/Chix Sea Grill)\nAug 2Â - 7th Street Stage (Mahi Mah's/C
 hix Sea Grill)\nAug 3Â - Wyndham Surf Club\nAug 9Â - Kelly's Outer Ban
 ks Tavern\nAug 15Â - Oceans & Ale\nAug 16Â - Hot Tuna\n\n\n\n\n\n\n\n\
 n\n\n\n\n\n\n\n\n\n Â \n\n\n\n\n\n\n\n\n\n\n\n\n\n\n\n\nFor more infor
 mation visit https://vbnightlife.com/events/llamas-at-brunch-saturday-
 at-the-virginia-beach-oceanfront
DTSTART:20140531T220000Z
DTEND:20140601T020000Z
CATEGORIES:concert
LOCATION:24TH STREET STAGE
WEBSITE:
URL:
CONTACT:
ORGANIZER;CN="VBnightlife.com":https://vbnightlife.com/profile/admin
ATTACH;FMTTYPE="image/jpeg":http://storage.ning.com/topology/rest/1.0/
 file/get/1664234282?profile=original
ATTENDEE;ROLE=REQ-PARTICIPANT;PARTSTAT=ACCEPTED;RSVP=TRUE;CN="VBnightl
 ife.com":https://vbnightlife.com/profile/admin
END:VEVENT
END:VCALENDAR
